BEGIN:VCALENDAR
VERSION:2.0
PRODID:-//ChamberMaster//Event Calendar 2.0//EN
METHOD:PUBLISH
X-PUBLISHED-TTL:P3D
REFRESH-INTERVAL:P3D
CALSCALE:GREGORIAN
BEGIN:VEVENT
DTSTART;VALUE=DATE:20100720
DTEND;VALUE=DATE:20100721
TRANSP:TRANSPARENT
X-MICROSOFT-CDO-ALLDAYEVENT:TRUE
SUMMARY:AG BBQ
DESCRIPTION:AG BBQAt the Beatrice Fairgrounds5p.m. - 7p.m.July 20\, 2010
X-ALT-DESC;FMTTYPE=text/html:<div style="text-align: center"><strong><span style="font-size: larger">AG BBQ</span></strong></div><div style="text-align: center"><strong><span style="font-size: larger">At the Beatrice Fairgrounds</span></strong></div><div style="text-align: center"><strong><span style="font-size: larger">5p.m. - 7p.m.</span></strong></div><div style="text-align: center"><strong><span style="font-size: larger">July 20\, 2010</span></strong></div>
LOCATION:Beatrice Fairgrounds
UID:e.41.1932
SEQUENCE:3
DTSTAMP:20260425T105214Z
URL:https://business.beatricechamber.com/events/details/ag-bbq-07-20-2010-1932
END:VEVENT

END:VCALENDAR
