BEGIN:VCALENDAR
VERSION:2.0
PRODID:-//ChamberMaster//Event Calendar 2.0//EN
METHOD:PUBLISH
X-PUBLISHED-TTL:P3D
REFRESH-INTERVAL:P3D
CALSCALE:GREGORIAN
BEGIN:VEVENT
DTSTART;VALUE=DATE:20110719
DTEND;VALUE=DATE:20110720
TRANSP:TRANSPARENT
X-MICROSOFT-CDO-ALLDAYEVENT:TRUE
SUMMARY:Ag BBQ 7/19/2011
DESCRIPTION:Beatrice Area Chamber of Commerce Agri-Business Committee presents:\n\n	\n\n	AG BBQ 2011\n\n	"A Community Celebration of Agriculture"\n\n	\n\n	Tuesday\, July 19\n\n	Gage County Fairgrounds\, Main Barn\n\n	5 pm - 7 pm\n\n	\n\n	Tickets available for pre-sale only.  Tickets are sold to Chamber members only.  Businesses may give tickets to their customers and/or employees.  Call the Chamber Office to order tickets at 402-223-2338.  Buy 10\, Get One Free!\n\n	\n\n	Serving: Van's BBQ: Pork Roast Sandwich\, Baked Beans\, Coleslaw
X-ALT-DESC;FMTTYPE=text/html:<p>\n	Beatrice Area Chamber of Commerce Agri-Business Committee presents:<br />\n	<br />\n	<strong><span style="font-size: 14px"><span style="font-family: arial">AG BBQ 2011<br />\n	&quot\;A Community Celebration of Agriculture&quot\;<br />\n	<br />\n	Tuesday\, July 19<br />\n	Gage County Fairgrounds\, Main Barn<br />\n	5 pm - 7 pm</span></span><br />\n	<br />\n	Tickets available for pre-sale only.&nbsp\; Tickets are sold to Chamber members only.&nbsp\; </strong>Businesses may give tickets to their customers and/or employees.&nbsp\; Call the Chamber Office to order tickets at 402-223-2338.&nbsp\; Buy 10\, Get One Free!<br />\n	<br />\n	<strong>Serving: Van&#39\;s BBQ: Pork Roast Sandwich\, Baked Beans\, Coleslaw</strong><br />\n	<br />\n	<br />\n	&nbsp\;</p>\n
LOCATION:
UID:e.41.4946
SEQUENCE:3
DTSTAMP:20260424T154857Z
URL:https://business.beatricechamber.com/events/details/ag-bbq-7-19-2011-07-19-2011-4946
END:VEVENT

END:VCALENDAR
