BEGIN:VCALENDAR
VERSION:2.0
PRODID:-//ChamberMaster//Event Calendar 2.0//EN
METHOD:PUBLISH
X-PUBLISHED-TTL:P3D
REFRESH-INTERVAL:P3D
CALSCALE:GREGORIAN
BEGIN:VEVENT
DTSTART:20120119T150000Z
DTEND:20120119T200000Z
X-MICROSOFT-CDO-ALLDAYEVENT:FALSE
SUMMARY:Ag Management Expo of SE Nebraska
DESCRIPTION:Ag Management Expo of Southeast Nebraska\n\nat Southeast Community College Truman Center\n\n\n\nThursday\, January 19\, 2012\n\n9 am - 2 pm\n\n\n\nKeynote Speaker:  Dr. Barry Flinchbaugh\n\nDr. Flinchbaugh represents the agricultural community through his active participation in the development of US agricultural policy.  He served as Chairman of the Commission on 21st Century Production Agriculture authorized in the 1969 FAIR ACT.  His service on numerous national task forces\, boards of directors\, and advisory groups has allowed him to provide input on domestic food and agriculture policy.\n\n\n\n*Promote your business with a booth\n\n*Sponsor the event\n\n\n\nEvent Co-Sponsored by Southeast Community College & Beatrice Area Chamber of Commerce\n\n\n\nwww.beatricechamber.com or 402-223-2338
X-ALT-DESC;FMTTYPE=text/html:<strong><span style="font-size: 16px">Ag Management Expo of Southeast Nebraska</span></strong><br />\nat Southeast Community College Truman Center<br />\n<br />\n<span style="font-size: 14px">Thursday\, January 19\, 2012<br />\n9 am - 2 pm</span><br />\n<br />\n<span style="font-size: 14px">Keynote Speaker:&nbsp\; Dr. Barry Flinchbaugh</span><br />\nDr. Flinchbaugh represents the agricultural community through his active participation in the development of US agricultural policy.&nbsp\; He served as Chairman of the Commission on 21st Century Production Agriculture authorized in the 1969 FAIR ACT.&nbsp\; His service on numerous national task forces\, boards of directors\, and advisory groups has allowed him to provide input on domestic food and agriculture policy.<br />\n<br />\n<span style="font-size: 16px"><strong>*Promote your business with a booth<br />\n*Sponsor the event</strong></span><br />\n<br />\nEvent Co-Sponsored by Southeast Community College&nbsp\;&amp\; Beatrice Area Chamber of Commerce<br />\n<br />\n<a href="http://www.beatricechamber.com">www.beatricechamber.com</a> or 402-223-2338
LOCATION:
UID:e.41.5178
SEQUENCE:3
DTSTAMP:20260422T202732Z
URL:https://business.beatricechamber.com/events/details/ag-management-expo-of-se-nebraska-01-19-2012-5178
END:VEVENT

END:VCALENDAR
