BEGIN:VCALENDAR
VERSION:2.0
PRODID:-//ChamberMaster//Event Calendar 2.0//EN
METHOD:PUBLISH
X-PUBLISHED-TTL:P3D
REFRESH-INTERVAL:P3D
CALSCALE:GREGORIAN
BEGIN:VEVENT
DTSTART:20090707T120000Z
DTEND:20090707T130000Z
X-MICROSOFT-CDO-ALLDAYEVENT:FALSE
SUMMARY:Agribusiness Committee Meeting
DESCRIPTION:
X-ALT-DESC;FMTTYPE=text/html:
LOCATION:Country Cookin'
UID:e.41.1266
SEQUENCE:3
DTSTAMP:20260426T030325Z
URL:https://business.beatricechamber.com/events/details/agribusiness-committee-meeting-07-07-2009-1266
END:VEVENT

END:VCALENDAR
