BEGIN:VCALENDAR
VERSION:2.0
PRODID:-//ChamberMaster//Event Calendar 2.0//EN
METHOD:PUBLISH
X-PUBLISHED-TTL:P3D
REFRESH-INTERVAL:P3D
CALSCALE:GREGORIAN
BEGIN:VEVENT
DTSTART:20110712T120000Z
DTEND:20110712T130000Z
X-MICROSOFT-CDO-ALLDAYEVENT:FALSE
SUMMARY:Agribusiness Committee Meeting
DESCRIPTION:Beatrice Area Chamber of Commerce "Agri-Business Committee"\n\nMeeting Tuesday\, July 12\n\n\n\n7 am\n\nCountry Cookin' Cafe
X-ALT-DESC;FMTTYPE=text/html:Beatrice Area Chamber of Commerce &quot\;Agri-Business Committee&quot\;<br />\nMeeting Tuesday\, July 12<br />\n<br />\n7 am<br />\nCountry Cookin&#39\; Cafe
LOCATION:
UID:e.41.4947
SEQUENCE:3
DTSTAMP:20260424T153319Z
URL:https://business.beatricechamber.com/events/details/agribusiness-committee-meeting-07-12-2011-4947
END:VEVENT

END:VCALENDAR
