BEGIN:VCALENDAR
VERSION:2.0
PRODID:-//ChamberMaster//Event Calendar 2.0//EN
METHOD:PUBLISH
X-PUBLISHED-TTL:P3D
REFRESH-INTERVAL:P3D
CALSCALE:GREGORIAN
BEGIN:VEVENT
DTSTART;VALUE=DATE:20120719
DTEND;VALUE=DATE:20120723
TRANSP:TRANSPARENT
X-MICROSOFT-CDO-ALLDAYEVENT:TRUE
SUMMARY:Aladdin
DESCRIPTION:Aladdin\n\nJuly 19 - 22\, 2012\n\n \n\n \n\nThe first production of Stars of Summer (formerly the Beatrice Children's Theatre). Based on the popular Disney movie musical\, this stage adaptation will take audiences to "A Whole New World" of fun and entertainment. The entire cast features performers ages 8 to 15.\n\n \n\n\n\n                                 www.beatricecommunityplayers.com
X-ALT-DESC;FMTTYPE=text/html:<span style="font-size: medium"><strong><span style="color: #857458"><span style="font-family: arial\, sans-serif">Aladdin</span></span></strong></span><br />\n<span style="font-size: medium"><strong><span style="color: #857458"><span style="font-family: arial\, sans-serif">July 19 - 22\, 2012</span></span></strong></span><br />\n&nbsp\;<br />\n&nbsp\;<br />\n<span style="font-size: 9pt"><span style="color: #857458"><span style="font-family: arial\, sans-serif">The first production of Stars of Summer (formerly the Beatrice Children&#39\;s Theatre). Based on the popular Disney movie musical\, this stage adaptation will take audiences to &quot\;A Whole New World&quot\; of fun and entertainment. The entire cast features performers ages 8 to 15.</span></span></span><br />\n&nbsp\;<br />\n<br />\n<strong>&nbsp\;&nbsp\;&nbsp\;&nbsp\;&nbsp\;&nbsp\;&nbsp\;&nbsp\;&nbsp\;&nbsp\;&nbsp\;&nbsp\;&nbsp\;&nbsp\;&nbsp\;&nbsp\;&nbsp\;&nbsp\;&nbsp\;&nbsp\;&nbsp\;&nbsp\;&nbsp\;&nbsp\;&nbsp\;<strong><span style="font-size: 12pt"><span style="color: #857458"><span style="font-family: arial\, sans-serif">&nbsp\;&nbsp\;&nbsp\;&nbsp\;&nbsp\;&nbsp\;&nbsp\;&nbsp\;<a href="http://r20.rs6.net/tn.jsp?e=001GhHR8YL0wqHKQaGHBRc3eFHCphxnjiRH3XKtvrGfU3ar9hZg0YTQu7gZ6yvZ3aWTZ4e3o2kSqeDWgTm_v6lf81cq7lG8zAI8B93ik2YGVe6KEDS_1auk7IIqW7dUjgO5" linktype="1" shape="rect" target="_blank" track="on">www.beatricecommunityplayers.com</a></span></span></span></strong></strong>
LOCATION:
UID:e.41.6295
SEQUENCE:3
DTSTAMP:20260422T113333Z
URL:https://business.beatricechamber.com/events/details/aladdin-07-19-2012-6295
END:VEVENT

END:VCALENDAR
