BEGIN:VCALENDAR
VERSION:2.0
PRODID:-//ChamberMaster//Event Calendar 2.0//EN
METHOD:PUBLISH
X-PUBLISHED-TTL:P3D
REFRESH-INTERVAL:P3D
CALSCALE:GREGORIAN
BEGIN:VEVENT
DTSTART;VALUE=DATE:20091123
DTEND;VALUE=DATE:20091124
TRANSP:TRANSPARENT
X-MICROSOFT-CDO-ALLDAYEVENT:TRUE
SUMMARY:ALCO Food Drive
DESCRIPTION:Alco is sponsoring a Food Drive to benefit area food pantriesAlco of Beatrice is proud to support the Community Food Pantry at St John Lutheran Church A container will be set up at the store to collect food for the Pantry from November 23   Dec 6 On Thanksgiving Day and Black FridayCustomers who donate food to the food drive will receive a Coupon for % off one regularly priced item!  Duckwall-Alco will match up to 50 tons of food distributed across participating food banks across the nation.
X-ALT-DESC;FMTTYPE=text/html:<div><div style="margin: 0in 0in 0pt"><span style="font-size: small">Alco is sponsoring a Food Drive to benefit area food pantries</span></div><div style="margin: 0in 0in 0pt"><span style="font-size: small">Alco of Beatrice is proud to support the Community Food Pantry at St John Lutheran Church </span></div><div style="margin: 0in 0in 0pt"><span style="font-size: small"><span style="">A container&nbsp\;will be set up&nbsp\;at the store to collect food for the Pantry from </span></span></div><div style="margin: 0in 0in 0pt"><div style="margin: 0in 0in 0pt"><span style="font-size: small">November 23 &ndash\; Dec 6</span></div></div><div style="margin: 0in 0in 0pt">&nbsp\;</div><div style="margin: 0in 0in 0pt"><span style="font-size: small"><span><div style="margin: 0in 0in 0pt"><span style="font-size: small">On Thanksgiving Day and Black Friday</span></div><div style="margin: 0in 0in 0pt"><span style="font-size: small"><div style="margin: 0in 0in 0pt">Customers who donate food to the food drive will receive a</div></span><span style="font-size: 10pt"><div style="margin: 0in 0in 0pt">&nbsp\;</div><div style="margin: 0in 0in 0pt"><span style="font-size: small">Coupon for % off one regularly priced item! </span></div></span></div></span></span></div><div style="margin: 0in 0in 0pt">&nbsp\;</div><div style="margin: 0in 0in 0pt"><span style="font-size: small">Duckwall-Alco will match up to 50 tons of food distributed across participating food banks across the nation.&nbsp\;</span></div><div style="margin: 0in 0in 0pt">&nbsp\;</div><div style="margin: 0in 0in 0pt">&nbsp\;</div></div>
LOCATION:
UID:e.41.1521
SEQUENCE:3
DTSTAMP:20260425T204919Z
URL:https://business.beatricechamber.com/events/details/alco-food-drive-11-23-2009-1521
END:VEVENT

END:VCALENDAR
