BEGIN:VCALENDAR
VERSION:2.0
PRODID:-//ChamberMaster//Event Calendar 2.0//EN
METHOD:PUBLISH
X-PUBLISHED-TTL:P3D
REFRESH-INTERVAL:P3D
CALSCALE:GREGORIAN
BEGIN:VEVENT
DTSTART;VALUE=DATE:20100207
DTEND;VALUE=DATE:20100208
TRANSP:TRANSPARENT
X-MICROSOFT-CDO-ALLDAYEVENT:TRUE
SUMMARY:''All Aboard!'' Train Film Festival
DESCRIPTION:"All Aboard!" Train Film Festival 2 p.m. at Homestead national Monument of America's Education Center"American Experience:  The Orphan Trains\," 60 minute documentary recounts the stories of thousands of homeless children who traveled west on trains to be adopted by rural families.  For more information\, call 402-223-3514
X-ALT-DESC;FMTTYPE=text/html:<div>&quot\;All Aboard!&quot\; Train Film Festival</div><div>&nbsp\;</div><div>2 p.m. at Homestead national Monument of America's Education Center</div><div>&quot\;American Experience:&nbsp\; The Orphan Trains\,&quot\; 60 minute documentary recounts the stories of thousands of homeless children who traveled west on trains to be adopted by rural families.&nbsp\;</div><div>&nbsp\;</div><div>For more information\, call 402-223-3514</div>
LOCATION:Homestead National Monument of AmericaEducation Center
UID:e.41.1589
SEQUENCE:3
DTSTAMP:20260425T165720Z
URL:https://business.beatricechamber.com/events/details/all-aboard-train-film-festival-02-07-2010-1589
END:VEVENT

END:VCALENDAR
