BEGIN:VCALENDAR
VERSION:2.0
PRODID:-//ChamberMaster//Event Calendar 2.0//EN
METHOD:PUBLISH
X-PUBLISHED-TTL:P3D
REFRESH-INTERVAL:P3D
CALSCALE:GREGORIAN
BEGIN:VEVENT
DTSTART:20110313T220000Z
DTEND:20110314T000000Z
X-MICROSOFT-CDO-ALLDAYEVENT:FALSE
SUMMARY:All-You-Can-Eat Pancake & Sausage Supper
DESCRIPTION:St. Peter's Parish Hall\, 10th & E St.\, Wymore.\n\n\n\nFree will donation. Proceeds to Church 75th Anniversary Celebration.
X-ALT-DESC;FMTTYPE=text/html:St. Peter&#39\;s Parish Hall\, 10th &amp\; E St.\, Wymore.<br />\n<br />\nFree will donation. Proceeds to Church 75th Anniversary Celebration.
LOCATION:
UID:e.41.4229
SEQUENCE:3
DTSTAMP:20260424T211959Z
URL:https://business.beatricechamber.com/events/details/all-you-can-eat-pancake-sausage-supper-03-13-2011-4229
END:VEVENT

END:VCALENDAR
