BEGIN:VCALENDAR
VERSION:2.0
PRODID:-//ChamberMaster//Event Calendar 2.0//EN
METHOD:PUBLISH
X-PUBLISHED-TTL:P3D
REFRESH-INTERVAL:P3D
CALSCALE:GREGORIAN
BEGIN:VEVENT
DTSTART:20100227T150000Z
DTEND:20100227T210000Z
X-MICROSOFT-CDO-ALLDAYEVENT:FALSE
SUMMARY:Alzheimer's workshop
DESCRIPTION:Southeast Community College's Continuing Education Division is hosting an Alzheimer's workshop - "A holistic Approach to Communicating and Caring for Persons with Dementia" Saturday\, February 27\, 20109 a.m. - 3 p.m.SCC's Continuing Education Center:301 S. 68th Street PlaceLincoln\, NE Cost is $59/person and includes lunch Five contact hours will be awarded upon successful completion of the workshop. To register\, go to www.southeast.edu and click on the WebAdvisor button in the right-hand column.Contact information:  Jeanette Walsh at 800-828-0072\, ext2706\, 402-437-2706\, or email jwalsh@southeast.edu Event is sponsored by Southeast Community College and the Great Plains Alzheimer's Association.
X-ALT-DESC;FMTTYPE=text/html:<div>Southeast Community College&rsquo\;s Continuing Education Division is hosting&nbsp\;an Alzheimer&rsquo\;s workshop - &quot\;A holistic Approach to Communicating and Caring for Persons with Dementia&quot\;</div><div>&nbsp\;</div><div>Saturday\, February 27\, 2010</div><div>9 a.m. - 3 p.m.</div><div>SCC&rsquo\;s Continuing Education Center:</div><div>301 S. 68th Street Place</div><div>Lincoln\, NE</div><div>&nbsp\;</div><div>Cost is $59/person and includes lunch</div><div>&nbsp\;</div><div>Five contact hours will be awarded upon successful completion of the workshop.</div><div>&nbsp\;</div><div>To register\, go to <a href="http://www.southeast.edu">www.southeast.edu</a> and click on the WebAdvisor button in the right-hand column.</div><div>Contact information:&nbsp\; Jeanette Walsh at 800-828-0072\, ext2706\, 402-437-2706\, or email <a href="mailto:jwalsh@southeast.edu">jwalsh@southeast.edu</a></div><div>&nbsp\;</div><div>Event is sponsored by Southeast Community College and the Great Plains Alzheimer's Association.</div><div>&nbsp\;</div><div>&nbsp\;</div><div>&nbsp\;</div>
LOCATION:SCC's Continuing Education Center301 S 68th St. PlaceLincoln\, NE
UID:e.41.1610
SEQUENCE:3
DTSTAMP:20260425T164403Z
URL:https://business.beatricechamber.com/events/details/alzheimer-s-workshop-02-27-2010-1610
END:VEVENT

END:VCALENDAR
