BEGIN:VCALENDAR
VERSION:2.0
PRODID:-//ChamberMaster//Event Calendar 2.0//EN
METHOD:PUBLISH
X-PUBLISHED-TTL:P3D
REFRESH-INTERVAL:P3D
CALSCALE:GREGORIAN
BEGIN:VEVENT
DTSTART;VALUE=DATE:20120112
DTEND;VALUE=DATE:20120113
TRANSP:TRANSPARENT
X-MICROSOFT-CDO-ALLDAYEVENT:TRUE
SUMMARY:Ambassadors
DESCRIPTION:Ambassadors for Beatrice Area Chamber of Commerce\n\n10:00 a.m. Meeting followed by scheduled Ribbong Cuttings\n\n\n\nMeet at Beatrice City Auditorium Conference Room\n\n205 N 4th Street\, Beatrice\n\n\n\nFor more information on Ambassadors\, call Lori at 402-223-2338 or email info@beatricechamber.com\n\n\n\nVisit our website www.beatricechamber.com
X-ALT-DESC;FMTTYPE=text/html:Ambassadors for Beatrice Area Chamber of Commerce<br />\n10:00&nbsp\;a.m. Meeting followed by scheduled Ribbong Cuttings<br />\n<br />\nMeet at Beatrice City Auditorium Conference Room<br />\n205 N 4th Street\, Beatrice<br />\n<br />\nFor more information on Ambassadors\, call Lori at 402-223-2338 or email info@beatricechamber.com<br />\n<br />\nVisit our website www.beatricechamber.com<br />\n
LOCATION:
UID:e.41.3198
SEQUENCE:3
DTSTAMP:20260422T201731Z
URL:https://business.beatricechamber.com/events/details/ambassadors-01-12-2012-3198
END:VEVENT

END:VCALENDAR
