BEGIN:VCALENDAR
VERSION:2.0
PRODID:-//ChamberMaster//Event Calendar 2.0//EN
METHOD:PUBLISH
X-PUBLISHED-TTL:P3D
REFRESH-INTERVAL:P3D
CALSCALE:GREGORIAN
BEGIN:VEVENT
DTSTART:20090924T143000Z
DTEND:20090924T160000Z
X-MICROSOFT-CDO-ALLDAYEVENT:FALSE
SUMMARY:Ambassadors - No Meeting scheduled - Progressive Lunch 9/22
DESCRIPTION:Ribbon Cuttings Scheduled: 10:15 am -10:45 am -
X-ALT-DESC;FMTTYPE=text/html:<div><strong><font color="#993300">Ribbon Cuttings Scheduled:</font></strong></div><div>&nbsp\;</div><div>10:15 am -</div><div>10:45 am -</div>
LOCATION:
UID:e.41.1406
SEQUENCE:3
DTSTAMP:20260425T234210Z
URL:https://business.beatricechamber.com/events/details/ambassadors-no-meeting-scheduled-progressive-lunch-9-22-09-24-2009-1406
END:VEVENT

END:VCALENDAR
