BEGIN:VCALENDAR
VERSION:2.0
PRODID:-//ChamberMaster//Event Calendar 2.0//EN
METHOD:PUBLISH
X-PUBLISHED-TTL:P3D
REFRESH-INTERVAL:P3D
CALSCALE:GREGORIAN
BEGIN:VEVENT
DTSTART:20100114T153000Z
DTEND:20100114T170000Z
X-MICROSOFT-CDO-ALLDAYEVENT:FALSE
SUMMARY:Ambassadors - Ribbon Cuttings
DESCRIPTION:Ribbon Cuttings Scheduled: 10:15 am - Back Alley Eatery - New Owners10:45 am -  Gage County Attorney
X-ALT-DESC;FMTTYPE=text/html:<div><strong><font color="#993300">Ribbon Cuttings Scheduled:</font></strong></div><div>&nbsp\;</div><div><div><div>10:15 am - Back Alley Eatery - New Owners</div><div>10:45 am -&nbsp\;&nbsp\;Gage County Attorney</div></div></div>
LOCATION:
UID:e.41.1578
SEQUENCE:3
DTSTAMP:20260425T181338Z
URL:https://business.beatricechamber.com/events/details/ambassadors-ribbon-cuttings-01-14-2010-1578
END:VEVENT

END:VCALENDAR
