BEGIN:VCALENDAR
VERSION:2.0
PRODID:-//ChamberMaster//Event Calendar 2.0//EN
METHOD:PUBLISH
X-PUBLISHED-TTL:P3D
REFRESH-INTERVAL:P3D
CALSCALE:GREGORIAN
BEGIN:VEVENT
DTSTART:20090709T143000Z
DTEND:20090709T160000Z
X-MICROSOFT-CDO-ALLDAYEVENT:FALSE
SUMMARY:Ambassadors - Ribbon Cuttings
DESCRIPTION:Ribbon Cuttings Scheduled: 10:15 am - Doodle Doo Daycare\, 1112 N 7th - New business 5:00 pm - Diller Communications\, 300 Commercial St\, Diller - 110th Birthday!
X-ALT-DESC;FMTTYPE=text/html:<div><strong><font color="#993300">Ribbon Cuttings Scheduled:</font></strong></div><div>&nbsp\;</div><div>10:15 am - Doodle Doo Daycare\, 1112 N 7th - New business</div><div>&nbsp\;</div><div>5:00 pm - Diller Communications\, 300 Commercial St\, Diller&nbsp\;- 110th Birthday!</div>
LOCATION:
UID:e.41.1268
SEQUENCE:3
DTSTAMP:20260426T030126Z
URL:https://business.beatricechamber.com/events/details/ambassadors-ribbon-cuttings-07-09-2009-1268
END:VEVENT

END:VCALENDAR
