BEGIN:VCALENDAR
VERSION:2.0
PRODID:-//ChamberMaster//Event Calendar 2.0//EN
METHOD:PUBLISH
X-PUBLISHED-TTL:P3D
REFRESH-INTERVAL:P3D
CALSCALE:GREGORIAN
BEGIN:VEVENT
DTSTART:20090723T143000Z
DTEND:20090723T160000Z
X-MICROSOFT-CDO-ALLDAYEVENT:FALSE
SUMMARY:Ambassadors - Ribbon Cuttings
DESCRIPTION:Ribbon Cuttings Scheduled: 10:15 am -10:45 am - Hannibal View
X-ALT-DESC;FMTTYPE=text/html:<div><strong><font color="#993300">Ribbon Cuttings Scheduled:</font></strong></div><div>&nbsp\;</div><div>10:15 am -</div><div>10:45 am - Hannibal View</div>
LOCATION:
UID:e.41.1270
SEQUENCE:3
DTSTAMP:20260426T030101Z
URL:https://business.beatricechamber.com/events/details/ambassadors-ribbon-cuttings-07-23-2009-1270
END:VEVENT

END:VCALENDAR
