BEGIN:VCALENDAR
VERSION:2.0
PRODID:-//ChamberMaster//Event Calendar 2.0//EN
METHOD:PUBLISH
X-PUBLISHED-TTL:P3D
REFRESH-INTERVAL:P3D
CALSCALE:GREGORIAN
BEGIN:VEVENT
DTSTART:20090813T143000Z
DTEND:20090813T160000Z
X-MICROSOFT-CDO-ALLDAYEVENT:FALSE
SUMMARY:Ambassadors - Ribbon Cuttings
DESCRIPTION:Ribbon Cuttings Scheduled: 10:15 am - US Cellular (New location)10:45 am - Dee's Hallmark (remodel)
X-ALT-DESC;FMTTYPE=text/html:<div><strong><font color="#993300">Ribbon Cuttings Scheduled:</font></strong></div><div>&nbsp\;</div><div>10:15 am - US&nbsp\;Cellular (New location)</div><div>10:45 am - Dee's Hallmark (remodel)</div>
LOCATION:
UID:e.41.1329
SEQUENCE:3
DTSTAMP:20260426T011925Z
URL:https://business.beatricechamber.com/events/details/ambassadors-ribbon-cuttings-08-13-2009-1329
END:VEVENT

END:VCALENDAR
