BEGIN:VCALENDAR
VERSION:2.0
PRODID:-//ChamberMaster//Event Calendar 2.0//EN
METHOD:PUBLISH
X-PUBLISHED-TTL:P3D
REFRESH-INTERVAL:P3D
CALSCALE:GREGORIAN
BEGIN:VEVENT
DTSTART:20091008T143000Z
DTEND:20091008T160000Z
X-MICROSOFT-CDO-ALLDAYEVENT:FALSE
SUMMARY:Ambassadors - Ribbon Cuttings
DESCRIPTION:Ribbon Cuttings Scheduled: 10:15 am - The Fabric Store10:45 am - The Race Pit\, 506 Court
X-ALT-DESC;FMTTYPE=text/html:<div><strong><font color="#993300">Ribbon Cuttings Scheduled:</font></strong></div><div>&nbsp\;</div><div>10:15 am - The Fabric Store</div><div>10:45 am - The Race Pit\, 506 Court</div>
LOCATION:
UID:e.41.1437
SEQUENCE:3
DTSTAMP:20260425T222109Z
URL:https://business.beatricechamber.com/events/details/ambassadors-ribbon-cuttings-10-08-2009-1437
END:VEVENT

END:VCALENDAR
