BEGIN:VCALENDAR
VERSION:2.0
PRODID:-//ChamberMaster//Event Calendar 2.0//EN
METHOD:PUBLISH
X-PUBLISHED-TTL:P3D
REFRESH-INTERVAL:P3D
CALSCALE:GREGORIAN
BEGIN:VEVENT
DTSTART:20091022T143000Z
DTEND:20091022T160000Z
X-MICROSOFT-CDO-ALLDAYEVENT:FALSE
SUMMARY:Ambassadors - Ribbon Cuttings
DESCRIPTION:Ribbon Cuttings Scheduled: 10:00 am - D'Andrea Realty10:30 am - American Legion Post #2711:00 am - ACE Rent to Own
X-ALT-DESC;FMTTYPE=text/html:<div><strong><font color="#993300">Ribbon Cuttings Scheduled:</font></strong></div><div>&nbsp\;</div><div>10:00 am - D&rsquo\;Andrea Realty</div><div>10:30 am - American Legion Post #27</div><div>11:00 am - ACE Rent to Own</div>
LOCATION:
UID:e.41.1439
SEQUENCE:3
DTSTAMP:20260425T221517Z
URL:https://business.beatricechamber.com/events/details/ambassadors-ribbon-cuttings-10-22-2009-1439
END:VEVENT

END:VCALENDAR
