BEGIN:VCALENDAR
VERSION:2.0
PRODID:-//ChamberMaster//Event Calendar 2.0//EN
METHOD:PUBLISH
X-PUBLISHED-TTL:P3D
REFRESH-INTERVAL:P3D
CALSCALE:GREGORIAN
BEGIN:VEVENT
DTSTART:20091112T153000Z
DTEND:20091112T170000Z
X-MICROSOFT-CDO-ALLDAYEVENT:FALSE
SUMMARY:Ambassadors - Ribbon Cuttings
DESCRIPTION:Ribbon Cuttings Scheduled: 10:00 am - Home Instead Senior Care10:30 am - Caterpillar Kids11:00 am - Southwick Chiropractic
X-ALT-DESC;FMTTYPE=text/html:<div><strong><font color="#993300">Ribbon Cuttings Scheduled:</font></strong></div><div>&nbsp\;</div><div><div>10:00 am - Home Instead Senior Care</div><div>10:30 am - Caterpillar Kids</div><div>11:00 am - Southwick Chiropractic</div></div>
LOCATION:
UID:e.41.1476
SEQUENCE:3
DTSTAMP:20260425T204843Z
URL:https://business.beatricechamber.com/events/details/ambassadors-ribbon-cuttings-11-12-2009-1476
END:VEVENT

END:VCALENDAR
