BEGIN:VCALENDAR
VERSION:2.0
PRODID:-//ChamberMaster//Event Calendar 2.0//EN
METHOD:PUBLISH
X-PUBLISHED-TTL:P3D
REFRESH-INTERVAL:P3D
CALSCALE:GREGORIAN
BEGIN:VEVENT
DTSTART:20091119T153000Z
DTEND:20091119T170000Z
X-MICROSOFT-CDO-ALLDAYEVENT:FALSE
SUMMARY:Ambassadors - Ribbon Cuttings
DESCRIPTION:Ribbon Cuttings Scheduled:   9:30 am - Customer Service Award10:00 am - Inner Balance Massage Therapy 117 N 5th10:30 am - Verizon - remodel\,  new name
X-ALT-DESC;FMTTYPE=text/html:<div><strong><font color="#993300">Ribbon Cuttings Scheduled:</font></strong></div><div>&nbsp\;</div><div><div><div>&nbsp\; 9:30 am - Customer Service Award</div><div>10:00 am - Inner Balance Massage Therapy 117 N 5th</div></div><div>10:30 am - Verizon - remodel\,&nbsp\; new name</div><div>&nbsp\;</div></div>
LOCATION:
UID:e.41.1477
SEQUENCE:3
DTSTAMP:20260425T204843Z
URL:https://business.beatricechamber.com/events/details/ambassadors-ribbon-cuttings-11-19-2009-1477
END:VEVENT

END:VCALENDAR
