BEGIN:VCALENDAR
VERSION:2.0
PRODID:-//ChamberMaster//Event Calendar 2.0//EN
METHOD:PUBLISH
X-PUBLISHED-TTL:P3D
REFRESH-INTERVAL:P3D
CALSCALE:GREGORIAN
BEGIN:VEVENT
DTSTART:20091125T153000Z
DTEND:20091125T170000Z
X-MICROSOFT-CDO-ALLDAYEVENT:FALSE
SUMMARY:Ambassadors - Ribbon Cuttings
DESCRIPTION:Ribbon Cuttings Scheduled: 11:00 am - Security First Insurance - Anniversary11:30 am -  A Slice of Pie - New Business
X-ALT-DESC;FMTTYPE=text/html:<div><strong><font color="#993300">Ribbon Cuttings Scheduled:</font></strong></div><div>&nbsp\;</div><div><div><div>11:00 am - Security First Insurance - Anniversary</div><div>11:30 am -&nbsp\;&nbsp\;A Slice of Pie - New Business</div></div></div>
LOCATION:
UID:e.41.1530
SEQUENCE:3
DTSTAMP:20260425T205005Z
URL:https://business.beatricechamber.com/events/details/ambassadors-ribbon-cuttings-11-25-2009-1530
END:VEVENT

END:VCALENDAR
