BEGIN:VCALENDAR
VERSION:2.0
PRODID:-//ChamberMaster//Event Calendar 2.0//EN
METHOD:PUBLISH
X-PUBLISHED-TTL:P3D
REFRESH-INTERVAL:P3D
CALSCALE:GREGORIAN
BEGIN:VEVENT
DTSTART:20091217T153000Z
DTEND:20091217T170000Z
X-MICROSOFT-CDO-ALLDAYEVENT:FALSE
SUMMARY:Ambassadors - Ribbon Cuttings
DESCRIPTION:Ribbon Cuttings Scheduled:  9:30 am - Davison Insurance - New Agent10:00 am - VIP Lounge10:30 am -  Paw Prints Boarding & Grooming
X-ALT-DESC;FMTTYPE=text/html:<div><strong><font color="#993300">Ribbon Cuttings Scheduled:</font></strong></div><div>&nbsp\;</div><div><div><div>&nbsp\;9:30&nbsp\;am - Davison Insurance - New Agent</div><div>10:00 am - VIP&nbsp\;Lounge</div><div>10:30 am -&nbsp\;&nbsp\;Paw Prints Boarding &amp\; Grooming</div></div></div>
LOCATION:
UID:e.41.1508
SEQUENCE:3
DTSTAMP:20260425T194052Z
URL:https://business.beatricechamber.com/events/details/ambassadors-ribbon-cuttings-12-17-2009-1508
END:VEVENT

END:VCALENDAR
