BEGIN:VCALENDAR
VERSION:2.0
PRODID:-//ChamberMaster//Event Calendar 2.0//EN
METHOD:PUBLISH
X-PUBLISHED-TTL:P3D
REFRESH-INTERVAL:P3D
CALSCALE:GREGORIAN
BEGIN:VEVENT
DTSTART;VALUE=DATE:20110418
DTEND;VALUE=DATE:20110420
TRANSP:TRANSPARENT
X-MICROSOFT-CDO-ALLDAYEVENT:TRUE
SUMMARY:"America I Hear You Singing" Music Programs
DESCRIPTION:The Lincoln and Cedar School Kindergarten\, First\, Second and Third Grade Students are preparing their upcoming music programs.\n\n	\n\n	"America\, I Hear You Singing" will be performed by:\n\n	Lincoln Students - Monday\, April 18\n\n	Cedar Students - Tuesday\, April 19\n\n	\n\n	Both shows will be held at Beatrice High School Hevelone Center for Performing Arts at 7 p.m.
X-ALT-DESC;FMTTYPE=text/html:<p>\n	The Lincoln and Cedar School Kindergarten\, First\, Second and Third Grade Students are preparing their upcoming music programs.<br />\n	<br />\n	&quot\;America\, I Hear You Singing&quot\; will be performed by:<br />\n	Lincoln Students - Monday\, April 18<br />\n	Cedar Students - Tuesday\, April 19<br />\n	<br />\n	Both shows will be held at Beatrice High School Hevelone Center for Performing Arts at 7 p.m.<br />\n	&nbsp\;</p>\n
LOCATION:
UID:e.41.4583
SEQUENCE:3
DTSTAMP:20260424T195230Z
URL:https://business.beatricechamber.com/events/details/america-i-hear-you-singing-music-programs-04-18-2011-4583
END:VEVENT

END:VCALENDAR
