BEGIN:VCALENDAR
VERSION:2.0
PRODID:-//ChamberMaster//Event Calendar 2.0//EN
METHOD:PUBLISH
X-PUBLISHED-TTL:P3D
REFRESH-INTERVAL:P3D
CALSCALE:GREGORIAN
BEGIN:VEVENT
DTSTART:20110115T150000Z
DTEND:20110115T170000Z
X-MICROSOFT-CDO-ALLDAYEVENT:FALSE
SUMMARY:American Cancer Society Relay For Life kick off brunch
DESCRIPTION:Complementary brunch and information on how to become involved with the American Cancer Society's Relay For Life in Gage County.
X-ALT-DESC;FMTTYPE=text/html:Complementary brunch and information on how to become involved with the American Cancer Society's Relay For Life in Gage County.
LOCATION:Valentino's - Downtown Beatrice
UID:e.41.3148
SEQUENCE:3
DTSTAMP:20260425T004228Z
URL:https://business.beatricechamber.com/events/details/american-cancer-society-relay-for-life-kick-off-brunch-01-15-2011-3148
END:VEVENT

END:VCALENDAR
