BEGIN:VCALENDAR
VERSION:2.0
PRODID:-//ChamberMaster//Event Calendar 2.0//EN
METHOD:PUBLISH
X-PUBLISHED-TTL:P3D
REFRESH-INTERVAL:P3D
CALSCALE:GREGORIAN
BEGIN:VEVENT
DTSTART;VALUE=DATE:20101114
DTEND;VALUE=DATE:20101121
TRANSP:TRANSPARENT
X-MICROSOFT-CDO-ALLDAYEVENT:TRUE
SUMMARY:American Education Week
DESCRIPTION:American Education Week\n\n\n\nMonday\, November 15: Kick-Off Day. From national commemorations to local community events\, millions of Americans celebrate public education.\n\n\n\nTuesday\, November 16: Parents Day. Schools invite parents into the classroom for a hands-on experience of what the day is like for their child.\n\n\n\nWednesday\, November 17: Education Support Professionals Day. Individuals who provide invaluable services to schools are recognized for their outstanding work.\n\n\n\nThursday\, November 18: Educator for a day. Community leaders are invited to serve as educators to get a glimpse at a day in the life of a school employee.\n\n\n\nFriday\, November 19: Substitute Educators Day. This day honors the educators who are called upon to replace regularly employed teachers.
X-ALT-DESC;FMTTYPE=text/html:<strong><span style="font-size: 14px">American Education Week</span></strong><br />\n<br />\nMonday\, November 15: Kick-Off Day. From national commemorations to local community events\, millions of Americans celebrate public education.<br />\n<br />\nTuesday\, November 16: Parents Day. Schools invite parents into the classroom for a hands-on experience of what the day is like for their child.<br />\n<br />\nWednesday\, November 17: Education Support Professionals Day. Individuals who provide invaluable services to schools are recognized for their outstanding work.<br />\n<br />\nThursday\, November 18: Educator for a day. Community leaders are invited to serve as educators to get a glimpse at a day in the life of a school employee.<br />\n<br />\nFriday\, November 19: Substitute Educators Day. This day honors the educators who are called upon to replace regularly employed teachers.
LOCATION:
UID:e.41.2832
SEQUENCE:3
DTSTAMP:20260425T032432Z
URL:https://business.beatricechamber.com/events/details/american-education-week-11-14-2010-2832
END:VEVENT

END:VCALENDAR
