BEGIN:VCALENDAR
VERSION:2.0
PRODID:-//ChamberMaster//Event Calendar 2.0//EN
METHOD:PUBLISH
X-PUBLISHED-TTL:P3D
REFRESH-INTERVAL:P3D
CALSCALE:GREGORIAN
BEGIN:VEVENT
DTSTART;VALUE=DATE:20120621
DTEND;VALUE=DATE:20120622
TRANSP:TRANSPARENT
X-MICROSOFT-CDO-ALLDAYEVENT:TRUE
SUMMARY:American Legion Fish Fry
DESCRIPTION:ALL YOU CAN EAT\n\nFISH FRY AND HAM DINNER\n\n$8.00   Adults\n\n$4.00   Children 10 & Under\n\nTHURSDAY\, JUNE 21\, 2012\n\n5:30   7:30 P.M.\n\nAMERICAN LEGION CLUB\n\n701 DORSEY\n\nPUBLIC INVITED
X-ALT-DESC;FMTTYPE=text/html:<span style="font-size:12px\;">ALL YOU CAN EAT<br />\nFISH FRY AND HAM DINNER<br />\n$8.00 &ndash\; Adults<br />\n$4.00 &ndash\; Children 10 &amp\; Under<br />\nTHURSDAY\, JUNE 21\, 2012<br />\n5:30 &ndash\; 7:30 P.M.<br />\nAMERICAN LEGION CLUB<br />\n701 DORSEY<br />\nPUBLIC INVITED</span>
LOCATION:
UID:e.41.5732
SEQUENCE:3
DTSTAMP:20260422T131437Z
URL:https://business.beatricechamber.com/events/details/american-legion-fish-fry-06-21-2012-5732
END:VEVENT

END:VCALENDAR
