BEGIN:VCALENDAR
VERSION:2.0
PRODID:-//ChamberMaster//Event Calendar 2.0//EN
METHOD:PUBLISH
X-PUBLISHED-TTL:P3D
REFRESH-INTERVAL:P3D
CALSCALE:GREGORIAN
BEGIN:VEVENT
DTSTART;VALUE=DATE:20120711
DTEND;VALUE=DATE:20120712
TRANSP:TRANSPARENT
X-MICROSOFT-CDO-ALLDAYEVENT:TRUE
SUMMARY:American Red Cross Blood Drive
DESCRIPTION:American Red Cross blood supply has reached emergency levels with 50\,000 fewer donations than expected in June.  The shortfall leaves the Red Cross with half of the readily available blood products on hand now than this time last year.\n\n\n\nRed Cross Blood Drives:\n\nTuesday\, July 3\n\n12:30 - 5:30 pm\n\nSt. Joseph Catholic Church\, 420 N 6th Street\, Beatrice\n\n\n\nTuesday\, July 10\n\n11:30 am - 5:30 pm\n\nElk's Club\, 525 G Street\, Fairbury\n\n\n\nThursday\, July 12\n\nNoon - 6 pm\n\nSt. Andrew Catholic Church\, 561 Jackson Street\, Tecumseh\n\n\n\nWednesday\, July 11\n\n10 am - 4 pm\n\nCommunity Building\, 107 N Cherry\, DeWitt\n\n\n\nCall 1-800-RED CROSS (1-800-733-2767) or visit www.redcrossblood.org to make an appointment or for more information.  A blood donor card or driver's license\, or two other forms of id are required at check-in.
X-ALT-DESC;FMTTYPE=text/html:American Red Cross&nbsp\;blood supply has reached&nbsp\;emergency&nbsp\;levels with 50\,000 fewer donations than expected in June.&nbsp\; The shortfall leaves the Red Cross&nbsp\;with half of the&nbsp\;readily available blood products on hand now than this time last year.<br />\n<br />\nRed Cross Blood Drives:<br />\nTuesday\, July 3<br />\n12:30 - 5:30 pm<br />\nSt. Joseph Catholic&nbsp\;Church\,&nbsp\;420 N 6th&nbsp\;Street\, Beatrice<br />\n<br />\nTuesday\, July 10<br />\n11:30 am - 5:30 pm<br />\nElk&#39\;s Club\,&nbsp\;525 G Street\,&nbsp\;Fairbury<br />\n<br />\nThursday\, July 12<br />\nNoon - 6 pm<br />\nSt. Andrew Catholic Church\, 561&nbsp\;Jackson Street\, Tecumseh<br />\n<br />\nWednesday\, July 11<br />\n10 am - 4 pm<br />\nCommunity Building\, 107 N Cherry\,&nbsp\;DeWitt<br />\n<br />\nCall 1-800-RED CROSS (1-800-733-2767)&nbsp\;or visit <a href="http://www.redcrossblood.org">www.redcrossblood.org</a>&nbsp\;to make an appointment or for more information.&nbsp\;&nbsp\;A blood donor card or driver&#39\;s license\, or two&nbsp\;other&nbsp\;forms of id are required at check-in.<br />\n
LOCATION:
UID:e.41.5736
SEQUENCE:3
DTSTAMP:20260422T114043Z
URL:https://business.beatricechamber.com/events/details/american-red-cross-blood-drive-07-11-2012-5736
END:VEVENT

END:VCALENDAR
