BEGIN:VCALENDAR
VERSION:2.0
PRODID:-//ChamberMaster//Event Calendar 2.0//EN
METHOD:PUBLISH
X-PUBLISHED-TTL:P3D
REFRESH-INTERVAL:P3D
CALSCALE:GREGORIAN
BEGIN:VEVENT
DTSTART:20090723T120000Z
DTEND:20090723T180000Z
X-MICROSOFT-CDO-ALLDAYEVENT:FALSE
SUMMARY:American Red Cross Blood Drive
DESCRIPTION:American Red Cross Blood DriveNote change of location! Holiday Inn Express Wednesday July 22 12-6 pmThursday July 23 7am-1pm Call 223-4211 for appointment."O" blood types are especially needed!
X-ALT-DESC;FMTTYPE=text/html:<div>American Red Cross Blood Drive</div><div>Note change of location!&nbsp\;</div><div>Holiday Inn Express</div><div>&nbsp\;</div><div>Wednesday July 22 12-6 pm</div><div>Thursday July 23 7am-1pm</div><div>&nbsp\;</div><div>Call 223-4211 for appointment.</div><div>&quot\;O&quot\; blood types are especially needed!</div><div>&nbsp\;</div>
LOCATION:
UID:e.41.1299
SEQUENCE:3
DTSTAMP:20260426T030132Z
URL:https://business.beatricechamber.com/events/details/american-red-cross-blood-drive-07-23-2009-1299
END:VEVENT

END:VCALENDAR
