BEGIN:VCALENDAR
VERSION:2.0
PRODID:-//ChamberMaster//Event Calendar 2.0//EN
METHOD:PUBLISH
X-PUBLISHED-TTL:P3D
REFRESH-INTERVAL:P3D
CALSCALE:GREGORIAN
BEGIN:VEVENT
DTSTART:20110816T170000Z
DTEND:20110816T230000Z
X-MICROSOFT-CDO-ALLDAYEVENT:FALSE
SUMMARY:American Red Cross Blood Drive
DESCRIPTION:Noon-6 p.m.\, Community Building\, 115 East E Street\, Wymore.\n\n\n\nTo make an appointment or for more information\, call 1-800-733-2767 or visit redcrossblood.org.  A blood donor card or driver's license\, or two other forms of identification are required at check-in.
X-ALT-DESC;FMTTYPE=text/html:Noon-6 p.m.\, Community Building\, 115 East E Street\, Wymore.<br />\n<br />\nTo make an appointment or for more information\,&nbsp\;call 1-800-733-2767 or visit redcrossblood.org.&nbsp\; A blood donor card or driver&#39\;s license\, or two other forms of identification are required at check-in.
LOCATION:
UID:e.41.5039
SEQUENCE:3
DTSTAMP:20260424T135653Z
URL:https://business.beatricechamber.com/events/details/american-red-cross-blood-drive-08-16-2011-5039
END:VEVENT

END:VCALENDAR
