BEGIN:VCALENDAR
VERSION:2.0
PRODID:-//ChamberMaster//Event Calendar 2.0//EN
METHOD:PUBLISH
X-PUBLISHED-TTL:P3D
REFRESH-INTERVAL:P3D
CALSCALE:GREGORIAN
BEGIN:VEVENT
DTSTART:20110817T150000Z
DTEND:20110817T200000Z
X-MICROSOFT-CDO-ALLDAYEVENT:FALSE
SUMMARY:American Red Cross Blood Drive
DESCRIPTION:10 a.m.-3 p.m.\, Southeast Community College-Beatrice\, Jackson Hall\, 4771 West Scott Rd.\n\n\n\nFor more information or to make an appointment\, call 1-800-733-2767 or visit redcrossblood.org.  A blood donor card or driver's license\, or two other forms of identification are required at check-in.
X-ALT-DESC;FMTTYPE=text/html:10 a.m.-3 p.m.\, Southeast Community College-Beatrice\, Jackson Hall\, 4771 West Scott Rd.<br />\n<br />\nFor more information or to make an appointment\, call 1-800-733-2767 or visit redcrossblood.org.&nbsp\; A blood donor card or driver&#39\;s license\, or two other forms of identification are required at check-in.
LOCATION:
UID:e.41.5041
SEQUENCE:3
DTSTAMP:20260424T135510Z
URL:https://business.beatricechamber.com/events/details/american-red-cross-blood-drive-08-17-2011-5041
END:VEVENT

END:VCALENDAR
