BEGIN:VCALENDAR
VERSION:2.0
PRODID:-//ChamberMaster//Event Calendar 2.0//EN
METHOD:PUBLISH
X-PUBLISHED-TTL:P3D
REFRESH-INTERVAL:P3D
CALSCALE:GREGORIAN
BEGIN:VEVENT
DTSTART:20110829T160000Z
DTEND:20110829T203000Z
X-MICROSOFT-CDO-ALLDAYEVENT:FALSE
SUMMARY:American Red Cross Blood Drive
DESCRIPTION:American Red Cross Blood Drive\n\nMonday\, August 29\n\n11 am - 3:30 pm\n\n\n\nIndian Creek Mall\n\n2205 N 6th Street\n\nBeatrice\, NE  68310\n\n\n\nA blood donor card or driver's license\, or tow other forms of id are required at check-in.
X-ALT-DESC;FMTTYPE=text/html:American Red Cross Blood Drive<br />\nMonday\, August 29<br />\n11 am - 3:30 pm<br />\n<br />\nIndian Creek Mall<br />\n2205 N 6th Street<br />\nBeatrice\, NE&nbsp\; 68310<br />\n<br />\nA blood donor card or driver&#39\;s license\, or tow other forms of id are required at check-in.
LOCATION:
UID:e.41.5081
SEQUENCE:3
DTSTAMP:20260424T135510Z
URL:https://business.beatricechamber.com/events/details/american-red-cross-blood-drive-08-29-2011-5081
END:VEVENT

END:VCALENDAR
