BEGIN:VCALENDAR
VERSION:2.0
PRODID:-//ChamberMaster//Event Calendar 2.0//EN
METHOD:PUBLISH
X-PUBLISHED-TTL:P3D
REFRESH-INTERVAL:P3D
CALSCALE:GREGORIAN
BEGIN:VEVENT
DTSTART:20111020T140000Z
DTEND:20111020T200000Z
X-MICROSOFT-CDO-ALLDAYEVENT:FALSE
SUMMARY:American Red Cross Blood Drive
DESCRIPTION:The American Red Cross Blood Drive\n\n\n\nThursday\, October 20\n\n9 am - 3 pm\n\n\n\nSoutheast Community College\, Jackson Hall\, 4771 W Scott Rd.\, Beatrice\, NE\n\n\n\nTo make an appointment or for more information\, call 800-RED CROSS (800-733-2767) or visit www.redcrossblood.org.  A blood donor card or driver's license\, or two other forms of identification are required at check-in.  Individuals who are 17 years of age (16 with parental permission in some states)\, weigh at least 110 pounds\, and are generally in good health may be eligible to donate blood.
X-ALT-DESC;FMTTYPE=text/html:The American Red Cross Blood Drive<br />\n<br />\nThursday\, October 20<br />\n9 am - 3 pm<br />\n<br />\nSoutheast Community College\, Jackson Hall\, 4771 W Scott Rd.\, Beatrice\, NE<br />\n<br />\nTo make an appointment or for more information\, call 800-RED CROSS (800-733-2767) or visit <a href="http://www.redcrossblood.org">www.redcrossblood.org</a>.&nbsp\; A blood donor card or driver&#39\;s license\, or two other forms of identification are required at check-in.&nbsp\; Individuals who are 17 years of age (16 with parental permission in some states)\, weigh at least 110 pounds\, and are generally in good health may be eligible to donate blood.
LOCATION:
UID:e.41.5172
SEQUENCE:3
DTSTAMP:20260424T111550Z
URL:https://business.beatricechamber.com/events/details/american-red-cross-blood-drive-10-20-2011-5172
END:VEVENT

END:VCALENDAR
