BEGIN:VCALENDAR
VERSION:2.0
PRODID:-//ChamberMaster//Event Calendar 2.0//EN
METHOD:PUBLISH
X-PUBLISHED-TTL:P3D
REFRESH-INTERVAL:P3D
CALSCALE:GREGORIAN
BEGIN:VEVENT
DTSTART;VALUE=DATE:20111026
DTEND;VALUE=DATE:20111028
TRANSP:TRANSPARENT
X-MICROSOFT-CDO-ALLDAYEVENT:TRUE
SUMMARY:American Red Cross Blood Drive
DESCRIPTION:The American Red Cross Blood Drive\n\n\n\nWednesday\, October 26: Noon - 6 pm\n\nThursday\, October 27: 7 am - 1 pm\n\n\n\nHoliday Inn Express & Suites\, 4005 N 6th Street\, Beatrice\, NE\n\n\n\nTo make an appointment or for more information\, call 800-RED CROSS (800-733-2767) or visit www.redcrossblood.org.  A blood donor card or driver's license\, or two other forms of identification are required at check-in.  Individuals who are 17 years of age (16 with parental permission in some states)\, weigh at least 110 pounds\, and are generally in good health may be eligible to donate blood.
X-ALT-DESC;FMTTYPE=text/html:The American Red Cross Blood Drive<br />\n<br />\nWednesday\, October 26: Noon - 6 pm<br />\nThursday\, October 27: 7 am - 1 pm<br />\n<br />\nHoliday Inn Express &amp\; Suites\, 4005 N 6th Street\, Beatrice\, NE<br />\n<br />\nTo make an appointment or for more information\, call 800-RED CROSS (800-733-2767) or visit <a href="http://www.redcrossblood.org/">www.redcrossblood.org</a>.&nbsp\; A blood donor card or driver&#39\;s license\, or two other forms of identification are required at check-in.&nbsp\; Individuals who are 17 years of age (16 with parental permission in some states)\, weigh at least 110 pounds\, and are generally in good health may be eligible to donate blood.
LOCATION:
UID:e.41.5173
SEQUENCE:3
DTSTAMP:20260424T111631Z
URL:https://business.beatricechamber.com/events/details/american-red-cross-blood-drive-10-26-2011-5173
END:VEVENT

END:VCALENDAR
