BEGIN:VCALENDAR
VERSION:2.0
PRODID:-//ChamberMaster//Event Calendar 2.0//EN
METHOD:PUBLISH
X-PUBLISHED-TTL:P3D
REFRESH-INTERVAL:P3D
CALSCALE:GREGORIAN
BEGIN:VEVENT
DTSTART:20120306T180000Z
DTEND:20120307T000000Z
X-MICROSOFT-CDO-ALLDAYEVENT:FALSE
SUMMARY:American Red Cross Bloodmobile
DESCRIPTION:Southern High School\, 115 S 11th\, Wymore. To donate call 800-RED CROSS or visit redcrossblood.org to make an appointment or for more information
X-ALT-DESC;FMTTYPE=text/html:Southern High School\, 115 S 11th\, Wymore. To donate call 800-RED CROSS or visit redcrossblood.org to make an appointment or for more information
LOCATION:
UID:e.41.5387
SEQUENCE:3
DTSTAMP:20260422T173148Z
URL:https://business.beatricechamber.com/events/details/american-red-cross-bloodmobile-03-06-2012-5387
END:VEVENT

END:VCALENDAR
