BEGIN:VCALENDAR
VERSION:2.0
PRODID:-//ChamberMaster//Event Calendar 2.0//EN
METHOD:PUBLISH
X-PUBLISHED-TTL:P3D
REFRESH-INTERVAL:P3D
CALSCALE:GREGORIAN
BEGIN:VEVENT
DTSTART:20120308T143000Z
DTEND:20120308T200000Z
X-MICROSOFT-CDO-ALLDAYEVENT:FALSE
SUMMARY:American Red Cross Bloodmobile
DESCRIPTION:State Development Center Chapel\, 3000 Lincoln Blvd.\, Beatrice. To donate\, call 800 RED CROSS or visit redcross-blood.org to make an appointment or for more information
X-ALT-DESC;FMTTYPE=text/html:State Development Center Chapel\, 3000 Lincoln Blvd.\, Beatrice. To donate\, call 800 RED CROSS or visit redcross-blood.org to make an appointment or for more information
LOCATION:
UID:e.41.5389
SEQUENCE:3
DTSTAMP:20260422T173122Z
URL:https://business.beatricechamber.com/events/details/american-red-cross-bloodmobile-03-08-2012-5389
END:VEVENT

END:VCALENDAR
