BEGIN:VCALENDAR
VERSION:2.0
PRODID:-//ChamberMaster//Event Calendar 2.0//EN
METHOD:PUBLISH
X-PUBLISHED-TTL:P3D
REFRESH-INTERVAL:P3D
CALSCALE:GREGORIAN
BEGIN:VEVENT
DTSTART;VALUE=DATE:20120426
DTEND;VALUE=DATE:20120427
TRANSP:TRANSPARENT
X-MICROSOFT-CDO-ALLDAYEVENT:TRUE
SUMMARY:American Red Cross Bloodmobile
DESCRIPTION:Time: 7am-1pm\n\n\n\nPlace: Holiday Inn Express\, 4005 N. Sixth St.\, Beatrice\n\n\n\nTo make an appointment or for more information call 800-REDCROSS 9800-733-2767) or visit redcross-blood.org
X-ALT-DESC;FMTTYPE=text/html:Time: 7am-1pm<br />\n<br />\nPlace: Holiday Inn Express\, 4005 N. Sixth St.\, Beatrice<br />\n<br />\nTo make an appointment&nbsp\;or for more information call 800-REDCROSS 9800-733-2767) or visit&nbsp\;redcross-blood.org
LOCATION:
UID:e.41.5477
SEQUENCE:3
DTSTAMP:20260422T154916Z
URL:https://business.beatricechamber.com/events/details/american-red-cross-bloodmobile-04-26-2012-5477
END:VEVENT

END:VCALENDAR
