BEGIN:VCALENDAR
VERSION:2.0
PRODID:-//ChamberMaster//Event Calendar 2.0//EN
METHOD:PUBLISH
X-PUBLISHED-TTL:P3D
REFRESH-INTERVAL:P3D
CALSCALE:GREGORIAN
BEGIN:VEVENT
DTSTART;VALUE=DATE:20111112
DTEND;VALUE=DATE:20111113
TRANSP:TRANSPARENT
X-MICROSOFT-CDO-ALLDAYEVENT:TRUE
SUMMARY:American Red Cross Fall Football Party
DESCRIPTION:The Southeast NE Chapter of the American Red Cross has scheduled the 4th Annual Fall Football Party:  Nebraska vs. Penn State.  Saturday November 12th\, 1/2 hour before kickoff.  It will be at the Holiday Inn Express\, 4005 N. 6th St.\, Beatrice NE.  Great food by Colleen's Catering! Big Screen!  Good Company! AND provide support to the American Red Cross.\n\n	\n\n	$50/person.  $25/Students in Grades 9-12.\n\n	Business and Table Sponsorships available.\n\n	\n\n	The American Red Cross is a Gage County United Way Agency.
X-ALT-DESC;FMTTYPE=text/html:<p>\n	The Southeast NE Chapter of the American Red Cross has scheduled the 4th Annual Fall Football Party:&nbsp\; Nebraska vs. Penn State.&nbsp\; Saturday November 12th\, 1/2 hour before kickoff.&nbsp\; It will be at the Holiday Inn Express\, 4005 N. 6th St.\, Beatrice NE.&nbsp\; Great food by Colleen&#39\;s Catering! Big Screen!&nbsp\; Good Company! AND provide support to the American Red Cross.<br />\n	<br />\n	$50/person.&nbsp\; $25/Students in Grades 9-12.<br />\n	Business and Table Sponsorships available.<br />\n	<br />\n	The American Red Cross is a Gage County United Way Agency.</p>\n
LOCATION:Holiday Inn Express\, Beatrice NE
UID:e.41.5201
SEQUENCE:3
DTSTAMP:20260424T111810Z
URL:https://business.beatricechamber.com/events/details/american-red-cross-fall-football-party-11-12-2011-5201
END:VEVENT

END:VCALENDAR
