BEGIN:VCALENDAR
VERSION:2.0
PRODID:-//ChamberMaster//Event Calendar 2.0//EN
METHOD:PUBLISH
X-PUBLISHED-TTL:P3D
REFRESH-INTERVAL:P3D
CALSCALE:GREGORIAN
BEGIN:VEVENT
DTSTART;VALUE=DATE:20100512
DTEND;VALUE=DATE:20100513
TRANSP:TRANSPARENT
X-MICROSOFT-CDO-ALLDAYEVENT:TRUE
SUMMARY:AmeriCorps Week Open House 5/12/2010
DESCRIPTION:AmeriCorps Week Open House Come find out about AmeriCorps!Beatrice Public Library\, 100 N. 16th Street Wednesday\, May 126:30 p.m. *One canned good donation will serve as admission to Open House event* Join us to learn:*About AmeriCorps program in Iowa*How AmericCorps members can assist your organization*Opportunities to serve in AmeriCorps programs*Talk to current and past members about their experiences serving Question:  Phone: (319)329-8410 or Email: Oak1dan@gmail.com
X-ALT-DESC;FMTTYPE=text/html:<div>AmeriCorps Week Open House</div><div>&nbsp\;</div><div>Come find out about AmeriCorps!</div><div>Beatrice Public Library\, 100 N. 16th Street</div><div>&nbsp\;</div><div>Wednesday\, May 12</div><div>6:30 p.m.</div><div>&nbsp\;</div><div>*One canned good donation will serve as admission to Open House event*</div><div>&nbsp\;</div><div>Join us to learn:</div><div>*About AmeriCorps program in Iowa</div><div>*How AmericCorps members can assist your organization</div><div>*Opportunities to serve in AmeriCorps programs</div><div>*Talk to current and past members about their experiences serving</div><div>&nbsp\;</div><div>Question:&nbsp\; Phone: (319)329-8410 or Email: <a href="mailto:Oak1dan@gmail.com">Oak1dan@gmail.com</a></div><div>&nbsp\;</div>
LOCATION:
UID:e.41.1984
SEQUENCE:3
DTSTAMP:20260425T122656Z
URL:https://business.beatricechamber.com/events/details/americorps-week-open-house-5-12-2010-05-12-2010-1984
END:VEVENT

END:VCALENDAR
