BEGIN:VCALENDAR
VERSION:2.0
PRODID:-//ChamberMaster//Event Calendar 2.0//EN
METHOD:PUBLISH
X-PUBLISHED-TTL:P3D
REFRESH-INTERVAL:P3D
CALSCALE:GREGORIAN
BEGIN:VEVENT
DTSTART;VALUE=DATE:20111011
DTEND;VALUE=DATE:20111012
TRANSP:TRANSPARENT
X-MICROSOFT-CDO-ALLDAYEVENT:TRUE
SUMMARY:An Evening in Pink
DESCRIPTION:10th Annual "An Evening In Pink"\n\nA Breast Cancer Awareness Event\n\n"Happy Birthday To Us!"\n\n\n\nTuesday\, October 11\n\n6 pm\n\n\n\nClassic's Bar & Grill\, Beatrice\, NE\n\n\n\nMeal: Salad Plate & Beverage\n\nProgram: Dr. Sandra Parks\, Beatrice\n\n\n\nTickets are $8\, advance purchase required.  Available September 28 thru October 8 at Beatrice Community Hospital\, Women's Health Center\, Parkview Center\, & Wymore Medical Center\n\n\n\nDonations Provided By: Local Service Clubs & Businesses\n\n\n\nMay Wear Denim & Pink\n\n\n\nFor more information: 402-228-8503
X-ALT-DESC;FMTTYPE=text/html:10th Annual &quot\;An Evening In Pink&quot\;<br />\nA Breast Cancer Awareness Event<br />\n&quot\;Happy Birthday To Us!&quot\;<br />\n<br />\nTuesday\, October 11<br />\n6 pm<br />\n<br />\nClassic&#39\;s Bar &amp\; Grill\, Beatrice\, NE<br />\n<br />\nMeal: Salad Plate &amp\; Beverage<br />\nProgram: Dr. Sandra Parks\, Beatrice<br />\n<br />\nTickets are $8\, advance purchase required.&nbsp\; Available September 28 thru October 8 at Beatrice Community Hospital\, Women&#39\;s Health Center\, Parkview Center\, &amp\; Wymore Medical Center<br />\n<br />\nDonations Provided By: Local Service Clubs &amp\; Businesses<br />\n<br />\nMay Wear Denim &amp\; Pink<br />\n<br />\nFor more information: 402-228-8503
LOCATION:
UID:e.41.5138
SEQUENCE:3
DTSTAMP:20260424T111234Z
URL:https://business.beatricechamber.com/events/details/an-evening-in-pink-10-11-2011-5138
END:VEVENT

END:VCALENDAR
