BEGIN:VCALENDAR
VERSION:2.0
PRODID:-//ChamberMaster//Event Calendar 2.0//EN
METHOD:PUBLISH
X-PUBLISHED-TTL:P3D
REFRESH-INTERVAL:P3D
CALSCALE:GREGORIAN
BEGIN:VEVENT
DTSTART:20110220T200000Z
DTEND:20110220T220000Z
X-MICROSOFT-CDO-ALLDAYEVENT:FALSE
SUMMARY:Annie Get Your Gun
DESCRIPTION:Classic Irving Berlin musical about sharp shooter Annie Oakley featuring hit songs such as "No Business Like Show Business"\, "Lost in His Arms" and "Anything You Can Do"
X-ALT-DESC;FMTTYPE=text/html:Classic Irving Berlin musical about sharp shooter Annie Oakley featuring hit songs such as "No Business Like Show Business"\, "Lost in His Arms" and "Anything You Can Do"
LOCATION:Beatrice Community Players
UID:e.41.4045
SEQUENCE:3
DTSTAMP:20260424T225448Z
URL:https://business.beatricechamber.com/events/details/annie-get-your-gun-02-20-2011-4045
END:VEVENT

END:VCALENDAR
