BEGIN:VCALENDAR
VERSION:2.0
PRODID:-//ChamberMaster//Event Calendar 2.0//EN
METHOD:PUBLISH
X-PUBLISHED-TTL:P3D
REFRESH-INTERVAL:P3D
CALSCALE:GREGORIAN
BEGIN:VEVENT
DTSTART;VALUE=DATE:20100501
DTEND;VALUE=DATE:20100502
TRANSP:TRANSPARENT
X-MICROSOFT-CDO-ALLDAYEVENT:TRUE
SUMMARY:Annual American Legion Poppy Day 5/1/10
DESCRIPTION:Annual American Legion Auxiliary Poppy Day Saturday\, May 1 Members will be distributing red poppies in exchange for a donation.  Contributions support veterans\, including homeless vets\, and supply financial aid to help with housing\, education and expenses.  For information:  Brenda Garcia\, 402-223-3711.
X-ALT-DESC;FMTTYPE=text/html:<div>Annual American Legion Auxiliary Poppy Day</div><div>&nbsp\;</div><div>Saturday\, May 1</div><div>&nbsp\;</div><div>Members will be distributing red poppies in exchange for a donation.&nbsp\; Contributions support veterans\, including homeless vets\, and supply financial aid to help with housing\, education and expenses.&nbsp\;</div><div>&nbsp\;</div><div>For information: &nbsp\;Brenda Garcia\, 402-223-3711.</div>
LOCATION:
UID:e.41.1966
SEQUENCE:3
DTSTAMP:20260425T122937Z
URL:https://business.beatricechamber.com/events/details/annual-american-legion-poppy-day-5-1-10-05-01-2010-1966
END:VEVENT

END:VCALENDAR
