BEGIN:VCALENDAR
VERSION:2.0
PRODID:-//ChamberMaster//Event Calendar 2.0//EN
METHOD:PUBLISH
X-PUBLISHED-TTL:P3D
REFRESH-INTERVAL:P3D
CALSCALE:GREGORIAN
BEGIN:VEVENT
DTSTART:20101210T003000Z
DTEND:20101210T003000Z
X-MICROSOFT-CDO-ALLDAYEVENT:FALSE
SUMMARY:Annual Beatrice High School Madrigal Feast
DESCRIPTION:Annual Beatrice High School Madrigal Feast:\n\n\n\n6:30 p.m.\, Classic's\, 1301 Oak St.\, Beatrice. Tickets: 223-1515\, extension 1809. Adults\, $12.50.\n\nChildren 10 and younger\, $7.
X-ALT-DESC;FMTTYPE=text/html:<strong>Annual Beatrice High School Madrigal Feast:<br />\n<br />\n6:30 p.m.\, Classic&#39\;s\, 1301 Oak St.\, Beatrice. Tickets: 223-1515\, extension 1809. Adults\, $12.50.<br />\nChildren 10 and younger\, $7.</strong><br />\n
LOCATION:
UID:e.41.2891
SEQUENCE:3
DTSTAMP:20260425T014531Z
URL:https://business.beatricechamber.com/events/details/annual-beatrice-high-school-madrigal-feast-12-09-2010-2891
END:VEVENT

END:VCALENDAR
