BEGIN:VCALENDAR
VERSION:2.0
PRODID:-//ChamberMaster//Event Calendar 2.0//EN
METHOD:PUBLISH
X-PUBLISHED-TTL:P3D
REFRESH-INTERVAL:P3D
CALSCALE:GREGORIAN
BEGIN:VEVENT
DTSTART:20101211T150000Z
DTEND:20101211T220000Z
X-MICROSOFT-CDO-ALLDAYEVENT:FALSE
SUMMARY:Annual BHS Crafts on the Boulevard
DESCRIPTION:Annual BHS Crafts on the Boulevard:\n\n\n\nBeatrice High School Commons Area. For more information or to reserve a spot\, contact Wendie Meyer\, FCS Skills for Life\, by email at wmeyer@bpsne.org.
X-ALT-DESC;FMTTYPE=text/html:<strong><span style="font-size: 14px\;">Annual BHS Crafts on the Boulevard:</span><br />\n<br />\nBeatrice High School Commons Area. For more information or to reserve a spot\, contact Wendie Meyer\, FCS Skills for Life\, by email at wmeyer@bpsne.org.</strong><br />\n
LOCATION:
UID:e.41.2861
SEQUENCE:3
DTSTAMP:20260425T014256Z
URL:https://business.beatricechamber.com/events/details/annual-bhs-crafts-on-the-boulevard-12-11-2010-2861
END:VEVENT

END:VCALENDAR
