BEGIN:VCALENDAR
VERSION:2.0
PRODID:-//ChamberMaster//Event Calendar 2.0//EN
METHOD:PUBLISH
X-PUBLISHED-TTL:P3D
REFRESH-INTERVAL:P3D
CALSCALE:GREGORIAN
BEGIN:VEVENT
DTSTART:20110731T160000Z
DTEND:20110731T180000Z
X-MICROSOFT-CDO-ALLDAYEVENT:FALSE
SUMMARY:Annual Chicken BBQ
DESCRIPTION:11 a.m.-1 p.m.  American Legion Hall\, Virginia\, NE.  Menu:  BBQ Chicken by Bill's BBQ\, baked potato\, salads\, desserts.  Carryout and drive thru available.  Freewill donation.
X-ALT-DESC;FMTTYPE=text/html:11 a.m.-1 p.m.&nbsp\; American Legion Hall\, Virginia\, NE.&nbsp\; Menu:&nbsp\; BBQ Chicken by Bill&#39\;s BBQ\, baked potato\, salads\, desserts.&nbsp\; Carryout and drive thru available.&nbsp\; Freewill donation.&nbsp\; 
LOCATION:
UID:e.41.5000
SEQUENCE:3
DTSTAMP:20260424T154714Z
URL:https://business.beatricechamber.com/events/details/annual-chicken-bbq-07-31-2011-5000
END:VEVENT

END:VCALENDAR
