BEGIN:VCALENDAR
VERSION:2.0
PRODID:-//ChamberMaster//Event Calendar 2.0//EN
METHOD:PUBLISH
X-PUBLISHED-TTL:P3D
REFRESH-INTERVAL:P3D
CALSCALE:GREGORIAN
BEGIN:VEVENT
DTSTART:20101211T150000Z
DTEND:20101211T150000Z
X-MICROSOFT-CDO-ALLDAYEVENT:FALSE
SUMMARY:Annual Cookie Walk and Cheese Log/Ball Sale:
DESCRIPTION:Annual Cookie Walk and Cheese Log/Ball Sale:\n\n\n\nwill start at 9 a.m. Saturday at the Wymore Methodist Church located at 121 S. 10th St. in Wymore. There will be an excellent selection of homemade cookies by the pound as well as cheese logs available. Cheese logs are one-half pound and the cheesse balls are one pound in size. Nativity scenes will be on display for your viewing enjoyment. The sale will be from 9-11:30 a.m.
X-ALT-DESC;FMTTYPE=text/html:<strong>Annual Cookie Walk and Cheese Log/Ball Sale:</strong><br />\n<br />\nwill start at 9 a.m. Saturday at the Wymore Methodist Church located at 121 S. 10th St. in Wymore. There will be an excellent selection of homemade cookies by the pound as well as cheese logs available. Cheese logs are one-half pound and the cheesse balls are one pound in size. Nativity scenes will be on display for your viewing enjoyment. The sale will be from 9-11:30 a.m.<br />\n
LOCATION:
UID:e.41.2893
SEQUENCE:3
DTSTAMP:20260425T014627Z
URL:https://business.beatricechamber.com/events/details/annual-cookie-walk-and-cheese-log-ball-sale-12-11-2010-2893
END:VEVENT

END:VCALENDAR
