BEGIN:VCALENDAR
VERSION:2.0
PRODID:-//ChamberMaster//Event Calendar 2.0//EN
METHOD:PUBLISH
X-PUBLISHED-TTL:P3D
REFRESH-INTERVAL:P3D
CALSCALE:GREGORIAN
BEGIN:VEVENT
DTSTART:20101203T150000Z
DTEND:20101204T230000Z
X-MICROSOFT-CDO-ALLDAYEVENT:FALSE
SUMMARY:Annual Craft Show
DESCRIPTION:Annual Craft Show:\n\n\n\nDecember 3rd & 4th\, 9 a.m.- 5p.m.\n\n\n\nLots of new items\, one of a kinf items\, centerpieces\, wreaths\, candles\, gifrs\, homemade cookies\, candies\, breakfast baskets\n\nNOTHING OVER $20\n\n\n\nEast of Beatrice on Hwy. 136 to Rockford corner\, south 4 miles\, and back west 1 block. FOLLOW THE SIGNS. From Wymore east on the B-line to 94th Rd\, north on 94th to Linden Rd\, west to first house. Signs at 94th & Linden.
X-ALT-DESC;FMTTYPE=text/html:<strong><span style="font-size: 14px\;">Annual Craft Show:</span></strong><br />\n<br />\nDecember 3rd &amp\; 4th\, 9 a.m.- 5p.m.<br />\n<br />\nLots of new items\, one of a kinf items\, centerpieces\, wreaths\, candles\, gifrs\, homemade cookies\, candies\, breakfast baskets<br />\nNOTHING OVER $20<br />\n<br />\nEast of Beatrice on Hwy. 136 to Rockford corner\, south 4 miles\, and back west 1 block. FOLLOW THE SIGNS. From Wymore east on the B-line to 94th Rd\, north on 94th to Linden Rd\, west to first house. Signs at 94th &amp\; Linden.<br />\n
LOCATION:
UID:e.41.2874
SEQUENCE:3
DTSTAMP:20260425T014300Z
URL:https://business.beatricechamber.com/events/details/annual-craft-show-12-03-2010-2874
END:VEVENT

END:VCALENDAR
