BEGIN:VCALENDAR
VERSION:2.0
PRODID:-//ChamberMaster//Event Calendar 2.0//EN
METHOD:PUBLISH
X-PUBLISHED-TTL:P3D
REFRESH-INTERVAL:P3D
CALSCALE:GREGORIAN
BEGIN:VEVENT
DTSTART:20110423T160000Z
DTEND:20110423T170000Z
X-MICROSOFT-CDO-ALLDAYEVENT:FALSE
SUMMARY:Annual Easter Egg Hunt
DESCRIPTION:Children ages nine and younger are invited to join in the event\, with participants divided into four age groups. In case of rain\, eggs will be distributed under the tabernacle in the park.\n\n\n\nSponsored by American Legion Family
X-ALT-DESC;FMTTYPE=text/html:Children ages nine and younger are invited to join in the event\, with participants divided into four age groups. In case of rain\, eggs will be distributed under the tabernacle in the park.<br />\n<br />\nSponsored by American Legion Family<br />\n<br />\n
LOCATION:Chatauqua Park Beatrice\, NE
UID:e.41.4574
SEQUENCE:3
DTSTAMP:20260424T194901Z
URL:https://business.beatricechamber.com/events/details/annual-easter-egg-hunt-04-23-2011-4574
END:VEVENT

END:VCALENDAR
