BEGIN:VCALENDAR
VERSION:2.0
PRODID:-//ChamberMaster//Event Calendar 2.0//EN
METHOD:PUBLISH
X-PUBLISHED-TTL:P3D
REFRESH-INTERVAL:P3D
CALSCALE:GREGORIAN
BEGIN:VEVENT
DTSTART:20101125T170000Z
DTEND:20101125T170000Z
X-MICROSOFT-CDO-ALLDAYEVENT:FALSE
SUMMARY:Annual Free Thanksgiving
DESCRIPTION:3rd Annual Beatrice 1450 Free Thannksgiving meal\n\n	\n\n	Event sponsored by Beatrice 1450 KWBE\n\n	\n\n	Everyone is invited.\n\n	\n\n	This event takes place at the Beatrice Salvation Army\, located at 624 Market St.\, Beatrice\, November 25 at 11:00 a.m.\n\n	\n\n	Delivery will also be provided to anyone within the Beatrice city limits at no charge.\n\n	\n\n	For information contact Brad Achtemeier\, General Manager\, Beatrice 1450 KWBE\, 228-5923
X-ALT-DESC;FMTTYPE=text/html:<p>\n	<strong><span style="font-size: 14px">3rd Annual Beatrice 1450 Free Thannksgiving meal</span></strong><br />\n	<br />\n	Event sponsored by Beatrice 1450 KWBE<br />\n	<br />\n	Everyone is invited.<br />\n	<br />\n	This event takes place at the Beatrice Salvation Army\, located at 624 Market St.\, Beatrice\, November 25 at 11:00 a.m.<br />\n	<br />\n	Delivery will also be provided to anyone within the Beatrice city limits at no charge.<br />\n	<br />\n	For information contact Brad Achtemeier\, General Manager\, Beatrice 1450 KWBE\, 228-5923</p>\n
LOCATION:
UID:e.41.2745
SEQUENCE:3
DTSTAMP:20260425T032639Z
URL:https://business.beatricechamber.com/events/details/annual-free-thanksgiving-11-25-2010-2745
END:VEVENT

END:VCALENDAR
