BEGIN:VCALENDAR
VERSION:2.0
PRODID:-//ChamberMaster//Event Calendar 2.0//EN
METHOD:PUBLISH
X-PUBLISHED-TTL:P3D
REFRESH-INTERVAL:P3D
CALSCALE:GREGORIAN
BEGIN:VEVENT
DTSTART;VALUE=DATE:20091106
DTEND;VALUE=DATE:20091108
TRANSP:TRANSPARENT
X-MICROSOFT-CDO-ALLDAYEVENT:TRUE
SUMMARY:Annual Governor's Pheasant Hunt
DESCRIPTION:Every year\, hunters travel from across the country to participate in the annual pheasant hunt.  We have welcomed hunters from as far as New York and Texas as well as cadets from West Point Academy.  We featured a European Hunt for the first time in 2008 and were very pleased with its success.\n\n \n\n \n\nEvents begin on Friday with an open shoot at the Beatrice Gun Club followed by a reception Friday night at Valentino's Restaurant.  After an early breakfast at Valentino's on Saturday\, the teams are dispursed to area farms to hunt.  Pheasants are counted\, measured\, and photographed.  A celebratory banquet is held Saturday evening which includes an awards presentation\, a silent auction\, and entertaining speakers.
X-ALT-DESC;FMTTYPE=text/html:Every year\, hunters travel from across the country to participate in the annual pheasant hunt.  We have welcomed hunters from as far as New York and Texas as well as cadets from West Point Academy.  We featured a European Hunt for the first time in 2008 and were very pleased with its success.\n\n \n\n \n\nEvents begin on Friday with an open shoot at the Beatrice Gun Club followed by a reception Friday night at Valentino's Restaurant.  After an early breakfast at Valentino's on Saturday\, the teams are dispursed to area farms to hunt.  Pheasants are counted\, measured\, and photographed.  A celebratory banquet is held Saturday evening which includes an awards presentation\, a silent auction\, and entertaining speakers.\n
LOCATION:Beatrice Gun Club
UID:e.41.1115
SEQUENCE:3
DTSTAMP:20260425T204811Z
URL:https://business.beatricechamber.com/events/details/annual-governor-s-pheasant-hunt-11-06-2009-1115
END:VEVENT

END:VCALENDAR
