BEGIN:VCALENDAR
VERSION:2.0
PRODID:-//ChamberMaster//Event Calendar 2.0//EN
METHOD:PUBLISH
X-PUBLISHED-TTL:P3D
REFRESH-INTERVAL:P3D
CALSCALE:GREGORIAN
BEGIN:VEVENT
DTSTART;VALUE=DATE:20110726
DTEND;VALUE=DATE:20110727
TRANSP:TRANSPARENT
X-MICROSOFT-CDO-ALLDAYEVENT:TRUE
SUMMARY:Annual Habitat for Humanity Meeting
DESCRIPTION:The annual meeting of Habitat for Humanity of Gage County will be July 26 in the second floor south meeting room at the Beatrice City Auditorium\, 205 N. 4th St.\, Beatrice.\n\n\n\nThe meeting begins at 7 p.m.\, with the regular business meeting at 7:30 p.m.  The meeting is open to the public.
X-ALT-DESC;FMTTYPE=text/html:The annual meeting of Habitat for Humanity of Gage County will be July 26 in the second floor south meeting room at the Beatrice City Auditorium\, 205 N. 4th St.\, Beatrice.<br />\n<br />\nThe meeting begins at 7 p.m.\, with the regular business meeting at 7:30 p.m.&nbsp\; The meeting is open to the public.
LOCATION:
UID:e.41.4980
SEQUENCE:3
DTSTAMP:20260424T153903Z
URL:https://business.beatricechamber.com/events/details/annual-habitat-for-humanity-meeting-07-26-2011-4980
END:VEVENT

END:VCALENDAR
